BEGIN:VCALENDAR
PRODID:http://www.kufer.de/kuferweb / DE
VERSION:2.0
METHOD:PUBLISH
CALSCALE:GREGORIAN
X-WR-TIMEZONE:Europe/Berlin
BEGIN:VTIMEZONE
TZID:Europe/Berlin
X-LIC-LOCATION:Europe/Berlin
BEGIN:DAYLIGHT
TZOFFSETFROM:+0100
TZOFFSETTO:+0200
TZNAME:CEST
DTSTART;TZID=Europe/Berlin:19700329T020000
RRULE:FREQ=YEARLY;INTERVAL=1;BYDAY=-1SU;BYMONTH=3
END:DAYLIGHT
BEGIN:STANDARD
TZOFFSETFROM:+0200
TZOFFSETTO:+0100
TZNAME:CET
DTSTART;TZID=Europe/Berlin:19701025T030000
RRULE:FREQ=YEARLY;INTERVAL=1;BYDAY=-1SU;BYMONTH=10
END:STANDARD
END:VTIMEZONE
BEGIN:VEVENT
DTSTAMP:20260420T122042
DTSTART;TZID=Europe/Berlin:20260720T173000
DTEND;TZID=Europe/Berlin:20260720T184500
UID:26F50E75-20260720T173000@KVW BIBOZEN
SUMMARY:Wohlfühl-Pilates & Klang im Freien (26F50E75) 
LOCATION:Garten des Haus Guggenberg, Unterdrittelgasse 17, , 
END:VEVENT
BEGIN:VEVENT
DTSTAMP:20260420T122042
DTSTART;TZID=Europe/Berlin:20260727T173000
DTEND;TZID=Europe/Berlin:20260727T184500
UID:26F50E75-20260727T173000@KVW BIBOZEN
SUMMARY:Wohlfühl-Pilates & Klang im Freien (26F50E75) 
LOCATION:Garten des Haus Guggenberg, Unterdrittelgasse 17, , 
END:VEVENT
BEGIN:VEVENT
DTSTAMP:20260420T122042
DTSTART;TZID=Europe/Berlin:20260803T173000
DTEND;TZID=Europe/Berlin:20260803T184500
UID:26F50E75-20260803T173000@KVW BIBOZEN
SUMMARY:Wohlfühl-Pilates & Klang im Freien (26F50E75) 
LOCATION:Garten des Haus Guggenberg, Unterdrittelgasse 17, , 
END:VEVENT
BEGIN:VEVENT
DTSTAMP:20260420T122042
DTSTART;TZID=Europe/Berlin:20260810T173000
DTEND;TZID=Europe/Berlin:20260810T184500
UID:26F50E75-20260810T173000@KVW BIBOZEN
SUMMARY:Wohlfühl-Pilates & Klang im Freien (26F50E75) 
LOCATION:Garten des Haus Guggenberg, Unterdrittelgasse 17, , 
END:VEVENT
BEGIN:VEVENT
DTSTAMP:20260420T122042
DTSTART;TZID=Europe/Berlin:20260817T173000
DTEND;TZID=Europe/Berlin:20260817T184500
UID:26F50E75-20260817T173000@KVW BIBOZEN
SUMMARY:Wohlfühl-Pilates & Klang im Freien (26F50E75) 
LOCATION:Garten des Haus Guggenberg, Unterdrittelgasse 17, , 
END:VEVENT
BEGIN:VEVENT
DTSTAMP:20260420T122042
DTSTART;TZID=Europe/Berlin:20260824T173000
DTEND;TZID=Europe/Berlin:20260824T184500
UID:26F50E75-20260824T173000@KVW BIBOZEN
SUMMARY:Wohlfühl-Pilates & Klang im Freien (26F50E75) 
LOCATION:Garten des Haus Guggenberg, Unterdrittelgasse 17, , 
END:VEVENT
END:VCALENDAR