BEGIN:VCALENDAR
PRODID:http://www.kufer.de/kuferweb / DE
VERSION:2.0
METHOD:PUBLISH
CALSCALE:GREGORIAN
X-WR-TIMEZONE:Europe/Berlin
BEGIN:VTIMEZONE
TZID:Europe/Berlin
X-LIC-LOCATION:Europe/Berlin
BEGIN:DAYLIGHT
TZOFFSETFROM:+0100
TZOFFSETTO:+0200
TZNAME:CEST
DTSTART;TZID=Europe/Berlin:19700329T020000
RRULE:FREQ=YEARLY;INTERVAL=1;BYDAY=-1SU;BYMONTH=3
END:DAYLIGHT
BEGIN:STANDARD
TZOFFSETFROM:+0200
TZOFFSETTO:+0100
TZNAME:CET
DTSTART;TZID=Europe/Berlin:19701025T030000
RRULE:FREQ=YEARLY;INTERVAL=1;BYDAY=-1SU;BYMONTH=10
END:STANDARD
END:VTIMEZONE
BEGIN:VEVENT
DTSTAMP:20260422T123319
DTSTART;TZID=Europe/Berlin:20260701T173000
DTEND;TZID=Europe/Berlin:20260701T183000
UID:26F50E88-20260701T173000@KVW BIBOZEN
SUMMARY:Pilates im Freien (26F50E88) 
LOCATION:KVW Bewegungsraum Meran, Otto-Huber-Straße 84, 39012 Meran
END:VEVENT
BEGIN:VEVENT
DTSTAMP:20260422T123319
DTSTART;TZID=Europe/Berlin:20260708T173000
DTEND;TZID=Europe/Berlin:20260708T183000
UID:26F50E88-20260708T173000@KVW BIBOZEN
SUMMARY:Pilates im Freien (26F50E88) 
LOCATION:KVW Bewegungsraum Meran, Otto-Huber-Straße 84, 39012 Meran
END:VEVENT
BEGIN:VEVENT
DTSTAMP:20260422T123319
DTSTART;TZID=Europe/Berlin:20260722T173000
DTEND;TZID=Europe/Berlin:20260722T183000
UID:26F50E88-20260722T173000@KVW BIBOZEN
SUMMARY:Pilates im Freien (26F50E88) 
LOCATION:KVW Bewegungsraum Meran, Otto-Huber-Straße 84, 39012 Meran
END:VEVENT
BEGIN:VEVENT
DTSTAMP:20260422T123319
DTSTART;TZID=Europe/Berlin:20260729T173000
DTEND;TZID=Europe/Berlin:20260729T183000
UID:26F50E88-20260729T173000@KVW BIBOZEN
SUMMARY:Pilates im Freien (26F50E88) 
LOCATION:KVW Bewegungsraum Meran, Otto-Huber-Straße 84, 39012 Meran
END:VEVENT
BEGIN:VEVENT
DTSTAMP:20260422T123319
DTSTART;TZID=Europe/Berlin:20260805T173000
DTEND;TZID=Europe/Berlin:20260805T183000
UID:26F50E88-20260805T173000@KVW BIBOZEN
SUMMARY:Pilates im Freien (26F50E88) 
LOCATION:KVW Bewegungsraum Meran, Otto-Huber-Straße 84, 39012 Meran
END:VEVENT
BEGIN:VEVENT
DTSTAMP:20260422T123319
DTSTART;TZID=Europe/Berlin:20260811T173000
DTEND;TZID=Europe/Berlin:20260811T183000
UID:26F50E88-20260811T173000@KVW BIBOZEN
SUMMARY:Pilates im Freien (26F50E88) 
LOCATION:KVW Bewegungsraum Meran, Otto-Huber-Straße 84, 39012 Meran
END:VEVENT
END:VCALENDAR