BEGIN:VCALENDAR
PRODID:http://www.kufer.de/kuferweb / DE
VERSION:2.0
METHOD:PUBLISH
CALSCALE:GREGORIAN
X-WR-TIMEZONE:Europe/Berlin
BEGIN:VTIMEZONE
TZID:Europe/Berlin
X-LIC-LOCATION:Europe/Berlin
BEGIN:DAYLIGHT
TZOFFSETFROM:+0100
TZOFFSETTO:+0200
TZNAME:CEST
DTSTART;TZID=Europe/Berlin:19700329T020000
RRULE:FREQ=YEARLY;INTERVAL=1;BYDAY=-1SU;BYMONTH=3
END:DAYLIGHT
BEGIN:STANDARD
TZOFFSETFROM:+0200
TZOFFSETTO:+0100
TZNAME:CET
DTSTART;TZID=Europe/Berlin:19701025T030000
RRULE:FREQ=YEARLY;INTERVAL=1;BYDAY=-1SU;BYMONTH=10
END:STANDARD
END:VTIMEZONE
BEGIN:VEVENT
DTSTAMP:20260420T105238
DTSTART;TZID=Europe/Berlin:20260130T180000
DTEND;TZID=Europe/Berlin:20260130T190000
UID:26F50E89-20260130T180000@KVW BIBOZEN
SUMMARY:Wassergymnastik (26F50E89) 
LOCATION:Kapuzinerstiftung Liebeswerk - Schwimmbad, Goethestraße 15, 39012 Meran
END:VEVENT
BEGIN:VEVENT
DTSTAMP:20260420T105238
DTSTART;TZID=Europe/Berlin:20260206T180000
DTEND;TZID=Europe/Berlin:20260206T190000
UID:26F50E89-20260206T180000@KVW BIBOZEN
SUMMARY:Wassergymnastik (26F50E89) 
LOCATION:Kapuzinerstiftung Liebeswerk - Schwimmbad, Goethestraße 15, 39012 Meran
END:VEVENT
BEGIN:VEVENT
DTSTAMP:20260420T105238
DTSTART;TZID=Europe/Berlin:20260227T180000
DTEND;TZID=Europe/Berlin:20260227T190000
UID:26F50E89-20260227T180000@KVW BIBOZEN
SUMMARY:Wassergymnastik (26F50E89) 
LOCATION:Kapuzinerstiftung Liebeswerk - Schwimmbad, Goethestraße 15, 39012 Meran
END:VEVENT
BEGIN:VEVENT
DTSTAMP:20260420T105238
DTSTART;TZID=Europe/Berlin:20260306T180000
DTEND;TZID=Europe/Berlin:20260306T190000
UID:26F50E89-20260306T180000@KVW BIBOZEN
SUMMARY:Wassergymnastik (26F50E89) 
LOCATION:Kapuzinerstiftung Liebeswerk - Schwimmbad, Goethestraße 15, 39012 Meran
END:VEVENT
BEGIN:VEVENT
DTSTAMP:20260420T105238
DTSTART;TZID=Europe/Berlin:20260313T180000
DTEND;TZID=Europe/Berlin:20260313T190000
UID:26F50E89-20260313T180000@KVW BIBOZEN
SUMMARY:Wassergymnastik (26F50E89) 
LOCATION:Kapuzinerstiftung Liebeswerk - Schwimmbad, Goethestraße 15, 39012 Meran
END:VEVENT
BEGIN:VEVENT
DTSTAMP:20260420T105238
DTSTART;TZID=Europe/Berlin:20260320T180000
DTEND;TZID=Europe/Berlin:20260320T190000
UID:26F50E89-20260320T180000@KVW BIBOZEN
SUMMARY:Wassergymnastik (26F50E89) 
LOCATION:Kapuzinerstiftung Liebeswerk - Schwimmbad, Goethestraße 15, 39012 Meran
END:VEVENT
BEGIN:VEVENT
DTSTAMP:20260420T105238
DTSTART;TZID=Europe/Berlin:20260327T180000
DTEND;TZID=Europe/Berlin:20260327T190000
UID:26F50E89-20260327T180000@KVW BIBOZEN
SUMMARY:Wassergymnastik (26F50E89) 
LOCATION:Kapuzinerstiftung Liebeswerk - Schwimmbad, Goethestraße 15, 39012 Meran
END:VEVENT
BEGIN:VEVENT
DTSTAMP:20260420T105238
DTSTART;TZID=Europe/Berlin:20260410T180000
DTEND;TZID=Europe/Berlin:20260410T190000
UID:26F50E89-20260410T180000@KVW BIBOZEN
SUMMARY:Wassergymnastik (26F50E89) 
LOCATION:Kapuzinerstiftung Liebeswerk - Schwimmbad, Goethestraße 15, 39012 Meran
END:VEVENT
BEGIN:VEVENT
DTSTAMP:20260420T105238
DTSTART;TZID=Europe/Berlin:20260417T180000
DTEND;TZID=Europe/Berlin:20260417T190000
UID:26F50E89-20260417T180000@KVW BIBOZEN
SUMMARY:Wassergymnastik (26F50E89) 
LOCATION:Kapuzinerstiftung Liebeswerk - Schwimmbad, Goethestraße 15, 39012 Meran
END:VEVENT
BEGIN:VEVENT
DTSTAMP:20260420T105238
DTSTART;TZID=Europe/Berlin:20260424T180000
DTEND;TZID=Europe/Berlin:20260424T190000
UID:26F50E89-20260424T180000@KVW BIBOZEN
SUMMARY:Wassergymnastik (26F50E89) 
LOCATION:Kapuzinerstiftung Liebeswerk - Schwimmbad, Goethestraße 15, 39012 Meran
END:VEVENT
END:VCALENDAR