BEGIN:VCALENDAR
PRODID:http://www.kufer.de/kuferweb / DE
VERSION:2.0
METHOD:PUBLISH
CALSCALE:GREGORIAN
X-WR-TIMEZONE:Europe/Berlin
BEGIN:VTIMEZONE
TZID:Europe/Berlin
X-LIC-LOCATION:Europe/Berlin
BEGIN:DAYLIGHT
TZOFFSETFROM:+0100
TZOFFSETTO:+0200
TZNAME:CEST
DTSTART;TZID=Europe/Berlin:19700329T020000
RRULE:FREQ=YEARLY;INTERVAL=1;BYDAY=-1SU;BYMONTH=3
END:DAYLIGHT
BEGIN:STANDARD
TZOFFSETFROM:+0200
TZOFFSETTO:+0100
TZNAME:CET
DTSTART;TZID=Europe/Berlin:19701025T030000
RRULE:FREQ=YEARLY;INTERVAL=1;BYDAY=-1SU;BYMONTH=10
END:STANDARD
END:VTIMEZONE
BEGIN:VEVENT
DTSTAMP:20260420T115424
DTSTART;TZID=Europe/Berlin:20260707T183000
DTEND;TZID=Europe/Berlin:20260707T193000
UID:26F50E93-20260707T183000@KVW BIBOZEN
SUMMARY:Yoga im Freien - Eine achtsame Pause für Dich (26F50E93) 
LOCATION:Privatklinik Martinsbrunn, Laurinstraße 70, , 
END:VEVENT
BEGIN:VEVENT
DTSTAMP:20260420T115424
DTSTART;TZID=Europe/Berlin:20260714T183000
DTEND;TZID=Europe/Berlin:20260714T193000
UID:26F50E93-20260714T183000@KVW BIBOZEN
SUMMARY:Yoga im Freien - Eine achtsame Pause für Dich (26F50E93) 
LOCATION:Privatklinik Martinsbrunn, Laurinstraße 70, , 
END:VEVENT
BEGIN:VEVENT
DTSTAMP:20260420T115424
DTSTART;TZID=Europe/Berlin:20260721T183000
DTEND;TZID=Europe/Berlin:20260721T193000
UID:26F50E93-20260721T183000@KVW BIBOZEN
SUMMARY:Yoga im Freien - Eine achtsame Pause für Dich (26F50E93) 
LOCATION:Privatklinik Martinsbrunn, Laurinstraße 70, , 
END:VEVENT
BEGIN:VEVENT
DTSTAMP:20260420T115424
DTSTART;TZID=Europe/Berlin:20260728T183000
DTEND;TZID=Europe/Berlin:20260728T193000
UID:26F50E93-20260728T183000@KVW BIBOZEN
SUMMARY:Yoga im Freien - Eine achtsame Pause für Dich (26F50E93) 
LOCATION:Privatklinik Martinsbrunn, Laurinstraße 70, , 
END:VEVENT
BEGIN:VEVENT
DTSTAMP:20260420T115424
DTSTART;TZID=Europe/Berlin:20260804T183000
DTEND;TZID=Europe/Berlin:20260804T193000
UID:26F50E93-20260804T183000@KVW BIBOZEN
SUMMARY:Yoga im Freien - Eine achtsame Pause für Dich (26F50E93) 
LOCATION:Privatklinik Martinsbrunn, Laurinstraße 70, , 
END:VEVENT
END:VCALENDAR