BEGIN:VCALENDAR
PRODID:http://www.kufer.de/kuferweb / DE
VERSION:2.0
METHOD:PUBLISH
CALSCALE:GREGORIAN
X-WR-TIMEZONE:Europe/Berlin
BEGIN:VTIMEZONE
TZID:Europe/Berlin
X-LIC-LOCATION:Europe/Berlin
BEGIN:DAYLIGHT
TZOFFSETFROM:+0100
TZOFFSETTO:+0200
TZNAME:CEST
DTSTART;TZID=Europe/Berlin:19700329T020000
RRULE:FREQ=YEARLY;INTERVAL=1;BYDAY=-1SU;BYMONTH=3
END:DAYLIGHT
BEGIN:STANDARD
TZOFFSETFROM:+0200
TZOFFSETTO:+0100
TZNAME:CET
DTSTART;TZID=Europe/Berlin:19701025T030000
RRULE:FREQ=YEARLY;INTERVAL=1;BYDAY=-1SU;BYMONTH=10
END:STANDARD
END:VTIMEZONE
BEGIN:VEVENT
DTSTAMP:20260420T060005
DTSTART;TZID=Europe/Berlin:20260305T133000
DTEND;TZID=Europe/Berlin:20260305T173000
UID:26F60B01-20260305T133000@KVW BIBOZEN
SUMMARY:Ausbildung Lernberatung/-Coaching (26F60B01) 
LOCATION:Kolping, , 
END:VEVENT
BEGIN:VEVENT
DTSTAMP:20260420T060005
DTSTART;TZID=Europe/Berlin:20260306T090000
DTEND;TZID=Europe/Berlin:20260306T173000
UID:26F60B01-20260306T090000@KVW BIBOZEN
SUMMARY:Ausbildung Lernberatung/-Coaching (26F60B01) 
LOCATION:Kolping, , 
END:VEVENT
BEGIN:VEVENT
DTSTAMP:20260420T060005
DTSTART;TZID=Europe/Berlin:20260307T090000
DTEND;TZID=Europe/Berlin:20260307T173000
UID:26F60B01-20260307T090000@KVW BIBOZEN
SUMMARY:Ausbildung Lernberatung/-Coaching (26F60B01) 
LOCATION:Kolping, , 
END:VEVENT
BEGIN:VEVENT
DTSTAMP:20260420T060005
DTSTART;TZID=Europe/Berlin:20260417T090000
DTEND;TZID=Europe/Berlin:20260417T173000
UID:26F60B01-20260417T090000@KVW BIBOZEN
SUMMARY:Ausbildung Lernberatung/-Coaching (26F60B01) 
LOCATION:Kolping, , 
END:VEVENT
BEGIN:VEVENT
DTSTAMP:20260420T060005
DTSTART;TZID=Europe/Berlin:20260418T090000
DTEND;TZID=Europe/Berlin:20260418T173000
UID:26F60B01-20260418T090000@KVW BIBOZEN
SUMMARY:Ausbildung Lernberatung/-Coaching (26F60B01) 
LOCATION:Kolping, , 
END:VEVENT
BEGIN:VEVENT
DTSTAMP:20260420T060005
DTSTART;TZID=Europe/Berlin:20260515T090000
DTEND;TZID=Europe/Berlin:20260515T173000
UID:26F60B01-20260515T090000@KVW BIBOZEN
SUMMARY:Ausbildung Lernberatung/-Coaching (26F60B01) 
LOCATION:Kolping, , 
END:VEVENT
BEGIN:VEVENT
DTSTAMP:20260420T060005
DTSTART;TZID=Europe/Berlin:20260516T090000
DTEND;TZID=Europe/Berlin:20260516T173000
UID:26F60B01-20260516T090000@KVW BIBOZEN
SUMMARY:Ausbildung Lernberatung/-Coaching (26F60B01) 
LOCATION:Kolping, , 
END:VEVENT
BEGIN:VEVENT
DTSTAMP:20260420T060005
DTSTART;TZID=Europe/Berlin:20260717T090000
DTEND;TZID=Europe/Berlin:20260717T173000
UID:26F60B01-20260717T090000@KVW BIBOZEN
SUMMARY:Ausbildung Lernberatung/-Coaching (26F60B01) 
LOCATION:Kolping, , 
END:VEVENT
BEGIN:VEVENT
DTSTAMP:20260420T060005
DTSTART;TZID=Europe/Berlin:20260718T090000
DTEND;TZID=Europe/Berlin:20260718T173000
UID:26F60B01-20260718T090000@KVW BIBOZEN
SUMMARY:Ausbildung Lernberatung/-Coaching (26F60B01) 
LOCATION:Kolping, , 
END:VEVENT
END:VCALENDAR