BEGIN:VCALENDAR
PRODID:http://www.kufer.de/kuferweb / DE
VERSION:2.0
METHOD:PUBLISH
CALSCALE:GREGORIAN
X-WR-TIMEZONE:Europe/Berlin
BEGIN:VTIMEZONE
TZID:Europe/Berlin
X-LIC-LOCATION:Europe/Berlin
BEGIN:DAYLIGHT
TZOFFSETFROM:+0100
TZOFFSETTO:+0200
TZNAME:CEST
DTSTART;TZID=Europe/Berlin:19700329T020000
RRULE:FREQ=YEARLY;INTERVAL=1;BYDAY=-1SU;BYMONTH=3
END:DAYLIGHT
BEGIN:STANDARD
TZOFFSETFROM:+0200
TZOFFSETTO:+0100
TZNAME:CET
DTSTART;TZID=Europe/Berlin:19701025T030000
RRULE:FREQ=YEARLY;INTERVAL=1;BYDAY=-1SU;BYMONTH=10
END:STANDARD
END:VTIMEZONE
BEGIN:VEVENT
DTSTAMP:20260420T103325
DTSTART;TZID=Europe/Berlin:20260121T150000
DTEND;TZID=Europe/Berlin:20260121T163000
UID:26F60L01-20260121T150000@KVW BIBOZEN
SUMMARY:Kinder Prana Nachmittage (26F60L01) 
LOCATION:Turnhalle Grundschule Gasteig, Schulweg 1, , 
END:VEVENT
BEGIN:VEVENT
DTSTAMP:20260420T103325
DTSTART;TZID=Europe/Berlin:20260225T150000
DTEND;TZID=Europe/Berlin:20260225T163000
UID:26F60L01-20260225T150000@KVW BIBOZEN
SUMMARY:Kinder Prana Nachmittage (26F60L01) 
LOCATION:Turnhalle Grundschule Gasteig, Schulweg 1, , 
END:VEVENT
BEGIN:VEVENT
DTSTAMP:20260420T103325
DTSTART;TZID=Europe/Berlin:20260318T150000
DTEND;TZID=Europe/Berlin:20260318T163000
UID:26F60L01-20260318T150000@KVW BIBOZEN
SUMMARY:Kinder Prana Nachmittage (26F60L01) 
LOCATION:Turnhalle Grundschule Gasteig, Schulweg 1, , 
END:VEVENT
BEGIN:VEVENT
DTSTAMP:20260420T103325
DTSTART;TZID=Europe/Berlin:20260422T150000
DTEND;TZID=Europe/Berlin:20260422T163000
UID:26F60L01-20260422T150000@KVW BIBOZEN
SUMMARY:Kinder Prana Nachmittage (26F60L01) 
LOCATION:Turnhalle Grundschule Gasteig, Schulweg 1, , 
END:VEVENT
BEGIN:VEVENT
DTSTAMP:20260420T103325
DTSTART;TZID=Europe/Berlin:20260513T150000
DTEND;TZID=Europe/Berlin:20260513T163000
UID:26F60L01-20260513T150000@KVW BIBOZEN
SUMMARY:Kinder Prana Nachmittage (26F60L01) 
LOCATION:Turnhalle Grundschule Gasteig, Schulweg 1, , 
END:VEVENT
BEGIN:VEVENT
DTSTAMP:20260420T103325
DTSTART;TZID=Europe/Berlin:20260610T150000
DTEND;TZID=Europe/Berlin:20260610T163000
UID:26F60L01-20260610T150000@KVW BIBOZEN
SUMMARY:Kinder Prana Nachmittage (26F60L01) 
LOCATION:Turnhalle Grundschule Gasteig, Schulweg 1, , 
END:VEVENT
END:VCALENDAR