BEGIN:VCALENDAR
PRODID:http://www.kufer.de/kuferweb / DE
VERSION:2.0
METHOD:PUBLISH
CALSCALE:GREGORIAN
X-WR-TIMEZONE:Europe/Berlin
BEGIN:VTIMEZONE
TZID:Europe/Berlin
X-LIC-LOCATION:Europe/Berlin
BEGIN:DAYLIGHT
TZOFFSETFROM:+0100
TZOFFSETTO:+0200
TZNAME:CEST
DTSTART;TZID=Europe/Berlin:19700329T020000
RRULE:FREQ=YEARLY;INTERVAL=1;BYDAY=-1SU;BYMONTH=3
END:DAYLIGHT
BEGIN:STANDARD
TZOFFSETFROM:+0200
TZOFFSETTO:+0100
TZNAME:CET
DTSTART;TZID=Europe/Berlin:19701025T030000
RRULE:FREQ=YEARLY;INTERVAL=1;BYDAY=-1SU;BYMONTH=10
END:STANDARD
END:VTIMEZONE
BEGIN:VEVENT
DTSTAMP:20260420T132218
DTSTART;TZID=Europe/Berlin:20260817T083000
DTEND;TZID=Europe/Berlin:20260817T120000
UID:26F60L06-20260817T083000@KVW BIBOZEN
SUMMARY:Klettercamps (26F60L06) 
LOCATION:Umgebung Sterzing, , 
END:VEVENT
BEGIN:VEVENT
DTSTAMP:20260420T132218
DTSTART;TZID=Europe/Berlin:20260818T083000
DTEND;TZID=Europe/Berlin:20260818T120000
UID:26F60L06-20260818T083000@KVW BIBOZEN
SUMMARY:Klettercamps (26F60L06) 
LOCATION:Umgebung Sterzing, , 
END:VEVENT
BEGIN:VEVENT
DTSTAMP:20260420T132218
DTSTART;TZID=Europe/Berlin:20260819T083000
DTEND;TZID=Europe/Berlin:20260819T120000
UID:26F60L06-20260819T083000@KVW BIBOZEN
SUMMARY:Klettercamps (26F60L06) 
LOCATION:Umgebung Sterzing, , 
END:VEVENT
BEGIN:VEVENT
DTSTAMP:20260420T132218
DTSTART;TZID=Europe/Berlin:20260820T083000
DTEND;TZID=Europe/Berlin:20260820T120000
UID:26F60L06-20260820T083000@KVW BIBOZEN
SUMMARY:Klettercamps (26F60L06) 
LOCATION:Umgebung Sterzing, , 
END:VEVENT
BEGIN:VEVENT
DTSTAMP:20260420T132218
DTSTART;TZID=Europe/Berlin:20260821T083000
DTEND;TZID=Europe/Berlin:20260821T120000
UID:26F60L06-20260821T083000@KVW BIBOZEN
SUMMARY:Klettercamps (26F60L06) 
LOCATION:Umgebung Sterzing, , 
END:VEVENT
END:VCALENDAR