BEGIN:VCALENDAR
PRODID:http://www.kufer.de/kuferweb / DE
VERSION:2.0
METHOD:PUBLISH
CALSCALE:GREGORIAN
X-WR-TIMEZONE:Europe/Berlin
BEGIN:VTIMEZONE
TZID:Europe/Berlin
X-LIC-LOCATION:Europe/Berlin
BEGIN:DAYLIGHT
TZOFFSETFROM:+0100
TZOFFSETTO:+0200
TZNAME:CEST
DTSTART;TZID=Europe/Berlin:19700329T020000
RRULE:FREQ=YEARLY;INTERVAL=1;BYDAY=-1SU;BYMONTH=3
END:DAYLIGHT
BEGIN:STANDARD
TZOFFSETFROM:+0200
TZOFFSETTO:+0100
TZNAME:CET
DTSTART;TZID=Europe/Berlin:19701025T030000
RRULE:FREQ=YEARLY;INTERVAL=1;BYDAY=-1SU;BYMONTH=10
END:STANDARD
END:VTIMEZONE
BEGIN:VEVENT
DTSTAMP:20260420T115246
DTSTART;TZID=Europe/Berlin:20260713T080000
DTEND;TZID=Europe/Berlin:20260713T120000
UID:26F60L10-20260713T080000@KVW BIBOZEN
SUMMARY:Kinder-Camp: Kreativität - Sprache - Spaß ohne Grenzen (26F60L10) 
LOCATION:Polo Scolastico “A.-Langer-Platz 2, , 
END:VEVENT
BEGIN:VEVENT
DTSTAMP:20260420T115246
DTSTART;TZID=Europe/Berlin:20260714T080000
DTEND;TZID=Europe/Berlin:20260714T120000
UID:26F60L10-20260714T080000@KVW BIBOZEN
SUMMARY:Kinder-Camp: Kreativität - Sprache - Spaß ohne Grenzen (26F60L10) 
LOCATION:Polo Scolastico “A.-Langer-Platz 2, , 
END:VEVENT
BEGIN:VEVENT
DTSTAMP:20260420T115246
DTSTART;TZID=Europe/Berlin:20260715T080000
DTEND;TZID=Europe/Berlin:20260715T120000
UID:26F60L10-20260715T080000@KVW BIBOZEN
SUMMARY:Kinder-Camp: Kreativität - Sprache - Spaß ohne Grenzen (26F60L10) 
LOCATION:Polo Scolastico “A.-Langer-Platz 2, , 
END:VEVENT
BEGIN:VEVENT
DTSTAMP:20260420T115246
DTSTART;TZID=Europe/Berlin:20260716T080000
DTEND;TZID=Europe/Berlin:20260716T120000
UID:26F60L10-20260716T080000@KVW BIBOZEN
SUMMARY:Kinder-Camp: Kreativität - Sprache - Spaß ohne Grenzen (26F60L10) 
LOCATION:Polo Scolastico “A.-Langer-Platz 2, , 
END:VEVENT
BEGIN:VEVENT
DTSTAMP:20260420T115246
DTSTART;TZID=Europe/Berlin:20260717T080000
DTEND;TZID=Europe/Berlin:20260717T120000
UID:26F60L10-20260717T080000@KVW BIBOZEN
SUMMARY:Kinder-Camp: Kreativität - Sprache - Spaß ohne Grenzen (26F60L10) 
LOCATION:Polo Scolastico “A.-Langer-Platz 2, , 
END:VEVENT
END:VCALENDAR