BEGIN:VCALENDAR
PRODID:http://www.kufer.de/kuferweb / DE
VERSION:2.0
METHOD:PUBLISH
CALSCALE:GREGORIAN
X-WR-TIMEZONE:Europe/Berlin
BEGIN:VTIMEZONE
TZID:Europe/Berlin
X-LIC-LOCATION:Europe/Berlin
BEGIN:DAYLIGHT
TZOFFSETFROM:+0100
TZOFFSETTO:+0200
TZNAME:CEST
DTSTART;TZID=Europe/Berlin:19700329T020000
RRULE:FREQ=YEARLY;INTERVAL=1;BYDAY=-1SU;BYMONTH=3
END:DAYLIGHT
BEGIN:STANDARD
TZOFFSETFROM:+0200
TZOFFSETTO:+0100
TZNAME:CET
DTSTART;TZID=Europe/Berlin:19701025T030000
RRULE:FREQ=YEARLY;INTERVAL=1;BYDAY=-1SU;BYMONTH=10
END:STANDARD
END:VTIMEZONE
BEGIN:VEVENT
DTSTAMP:20260420T121947
DTSTART;TZID=Europe/Berlin:20260727T080000
DTEND;TZID=Europe/Berlin:20260727T120000
UID:26F60L12-20260727T080000@KVW BIBOZEN
SUMMARY:Kinder-Camp: Kreativität - Sprache - Spaß ohne Grenzen (26F60L12) 
LOCATION:Polo Scolastico “A.-Langer-Platz 2, , 
END:VEVENT
BEGIN:VEVENT
DTSTAMP:20260420T121947
DTSTART;TZID=Europe/Berlin:20260728T080000
DTEND;TZID=Europe/Berlin:20260728T120000
UID:26F60L12-20260728T080000@KVW BIBOZEN
SUMMARY:Kinder-Camp: Kreativität - Sprache - Spaß ohne Grenzen (26F60L12) 
LOCATION:Polo Scolastico “A.-Langer-Platz 2, , 
END:VEVENT
BEGIN:VEVENT
DTSTAMP:20260420T121947
DTSTART;TZID=Europe/Berlin:20260729T080000
DTEND;TZID=Europe/Berlin:20260729T120000
UID:26F60L12-20260729T080000@KVW BIBOZEN
SUMMARY:Kinder-Camp: Kreativität - Sprache - Spaß ohne Grenzen (26F60L12) 
LOCATION:Polo Scolastico “A.-Langer-Platz 2, , 
END:VEVENT
BEGIN:VEVENT
DTSTAMP:20260420T121947
DTSTART;TZID=Europe/Berlin:20260730T080000
DTEND;TZID=Europe/Berlin:20260730T120000
UID:26F60L12-20260730T080000@KVW BIBOZEN
SUMMARY:Kinder-Camp: Kreativität - Sprache - Spaß ohne Grenzen (26F60L12) 
LOCATION:Polo Scolastico “A.-Langer-Platz 2, , 
END:VEVENT
BEGIN:VEVENT
DTSTAMP:20260420T121947
DTSTART;TZID=Europe/Berlin:20260731T080000
DTEND;TZID=Europe/Berlin:20260731T120000
UID:26F60L12-20260731T080000@KVW BIBOZEN
SUMMARY:Kinder-Camp: Kreativität - Sprache - Spaß ohne Grenzen (26F60L12) 
LOCATION:Polo Scolastico “A.-Langer-Platz 2, , 
END:VEVENT
END:VCALENDAR