BEGIN:VCALENDAR
PRODID:http://www.kufer.de/kuferweb / DE
VERSION:2.0
METHOD:PUBLISH
CALSCALE:GREGORIAN
X-WR-TIMEZONE:Europe/Berlin
BEGIN:VTIMEZONE
TZID:Europe/Berlin
X-LIC-LOCATION:Europe/Berlin
BEGIN:DAYLIGHT
TZOFFSETFROM:+0100
TZOFFSETTO:+0200
TZNAME:CEST
DTSTART;TZID=Europe/Berlin:19700329T020000
RRULE:FREQ=YEARLY;INTERVAL=1;BYDAY=-1SU;BYMONTH=3
END:DAYLIGHT
BEGIN:STANDARD
TZOFFSETFROM:+0200
TZOFFSETTO:+0100
TZNAME:CET
DTSTART;TZID=Europe/Berlin:19701025T030000
RRULE:FREQ=YEARLY;INTERVAL=1;BYDAY=-1SU;BYMONTH=10
END:STANDARD
END:VTIMEZONE
BEGIN:VEVENT
DTSTAMP:20260420T130410
DTSTART;TZID=Europe/Berlin:20260824T080000
DTEND;TZID=Europe/Berlin:20260824T123000
UID:26F60L14-20260824T080000@KVW BIBOZEN
SUMMARY:Erlebniswoche: Yoga & Natur - Kochen & Genießen (26F60L14) 
LOCATION:wird noch mitgeteilt, , 
END:VEVENT
BEGIN:VEVENT
DTSTAMP:20260420T130410
DTSTART;TZID=Europe/Berlin:20260825T080000
DTEND;TZID=Europe/Berlin:20260825T123000
UID:26F60L14-20260825T080000@KVW BIBOZEN
SUMMARY:Erlebniswoche: Yoga & Natur - Kochen & Genießen (26F60L14) 
LOCATION:wird noch mitgeteilt, , 
END:VEVENT
BEGIN:VEVENT
DTSTAMP:20260420T130410
DTSTART;TZID=Europe/Berlin:20260826T080000
DTEND;TZID=Europe/Berlin:20260826T150000
UID:26F60L14-20260826T080000@KVW BIBOZEN
SUMMARY:Erlebniswoche: Yoga & Natur - Kochen & Genießen (26F60L14) 
LOCATION:wird noch mitgeteilt, , 
END:VEVENT
BEGIN:VEVENT
DTSTAMP:20260420T130410
DTSTART;TZID=Europe/Berlin:20260827T080000
DTEND;TZID=Europe/Berlin:20260827T123000
UID:26F60L14-20260827T080000@KVW BIBOZEN
SUMMARY:Erlebniswoche: Yoga & Natur - Kochen & Genießen (26F60L14) 
LOCATION:wird noch mitgeteilt, , 
END:VEVENT
BEGIN:VEVENT
DTSTAMP:20260420T130410
DTSTART;TZID=Europe/Berlin:20260828T080000
DTEND;TZID=Europe/Berlin:20260828T123000
UID:26F60L14-20260828T080000@KVW BIBOZEN
SUMMARY:Erlebniswoche: Yoga & Natur - Kochen & Genießen (26F60L14) 
LOCATION:wird noch mitgeteilt, , 
END:VEVENT
END:VCALENDAR