BEGIN:VCALENDAR
PRODID:http://www.kufer.de/kuferweb / DE
VERSION:2.0
METHOD:PUBLISH
CALSCALE:GREGORIAN
X-WR-TIMEZONE:Europe/Berlin
BEGIN:VTIMEZONE
TZID:Europe/Berlin
X-LIC-LOCATION:Europe/Berlin
BEGIN:DAYLIGHT
TZOFFSETFROM:+0100
TZOFFSETTO:+0200
TZNAME:CEST
DTSTART;TZID=Europe/Berlin:19700329T020000
RRULE:FREQ=YEARLY;INTERVAL=1;BYDAY=-1SU;BYMONTH=3
END:DAYLIGHT
BEGIN:STANDARD
TZOFFSETFROM:+0200
TZOFFSETTO:+0100
TZNAME:CET
DTSTART;TZID=Europe/Berlin:19701025T030000
RRULE:FREQ=YEARLY;INTERVAL=1;BYDAY=-1SU;BYMONTH=10
END:STANDARD
END:VTIMEZONE
BEGIN:VEVENT
DTSTAMP:20260420T115239
DTSTART;TZID=Europe/Berlin:20260706T083000
DTEND;TZID=Europe/Berlin:20260706T123000
UID:26F60L18-20260706T083000@KVW BIBOZEN
SUMMARY:Dancing, singing & more (26F60L18) 
LOCATION:Musikschule Sterzing, Deutschhausstraße 11, , 
END:VEVENT
BEGIN:VEVENT
DTSTAMP:20260420T115240
DTSTART;TZID=Europe/Berlin:20260707T083000
DTEND;TZID=Europe/Berlin:20260707T123000
UID:26F60L18-20260707T083000@KVW BIBOZEN
SUMMARY:Dancing, singing & more (26F60L18) 
LOCATION:Musikschule Sterzing, Deutschhausstraße 11, , 
END:VEVENT
BEGIN:VEVENT
DTSTAMP:20260420T115240
DTSTART;TZID=Europe/Berlin:20260708T083000
DTEND;TZID=Europe/Berlin:20260708T123000
UID:26F60L18-20260708T083000@KVW BIBOZEN
SUMMARY:Dancing, singing & more (26F60L18) 
LOCATION:Musikschule Sterzing, Deutschhausstraße 11, , 
END:VEVENT
BEGIN:VEVENT
DTSTAMP:20260420T115240
DTSTART;TZID=Europe/Berlin:20260709T083000
DTEND;TZID=Europe/Berlin:20260709T123000
UID:26F60L18-20260709T083000@KVW BIBOZEN
SUMMARY:Dancing, singing & more (26F60L18) 
LOCATION:Musikschule Sterzing, Deutschhausstraße 11, , 
END:VEVENT
BEGIN:VEVENT
DTSTAMP:20260420T115240
DTSTART;TZID=Europe/Berlin:20260710T083000
DTEND;TZID=Europe/Berlin:20260710T123000
UID:26F60L18-20260710T083000@KVW BIBOZEN
SUMMARY:Dancing, singing & more (26F60L18) 
LOCATION:Musikschule Sterzing, Deutschhausstraße 11, , 
END:VEVENT
END:VCALENDAR