BEGIN:VCALENDAR
PRODID:http://www.kufer.de/kuferweb / DE
VERSION:2.0
METHOD:PUBLISH
CALSCALE:GREGORIAN
X-WR-TIMEZONE:Europe/Berlin
BEGIN:VTIMEZONE
TZID:Europe/Berlin
X-LIC-LOCATION:Europe/Berlin
BEGIN:DAYLIGHT
TZOFFSETFROM:+0100
TZOFFSETTO:+0200
TZNAME:CEST
DTSTART;TZID=Europe/Berlin:19700329T020000
RRULE:FREQ=YEARLY;INTERVAL=1;BYDAY=-1SU;BYMONTH=3
END:DAYLIGHT
BEGIN:STANDARD
TZOFFSETFROM:+0200
TZOFFSETTO:+0100
TZNAME:CET
DTSTART;TZID=Europe/Berlin:19701025T030000
RRULE:FREQ=YEARLY;INTERVAL=1;BYDAY=-1SU;BYMONTH=10
END:STANDARD
END:VTIMEZONE
BEGIN:VEVENT
DTSTAMP:20260422T121005
DTSTART;TZID=Europe/Berlin:20260713T083000
DTEND;TZID=Europe/Berlin:20260713T120000
UID:26F60L20-20260713T083000@KVW BIBOZEN
SUMMARY:Country Line Dance beats Hip Hop (26F60L20) 
LOCATION:Julius-Durst-Str. 44C - 4. Etage im SyncomGebäude, , 
END:VEVENT
BEGIN:VEVENT
DTSTAMP:20260422T121005
DTSTART;TZID=Europe/Berlin:20260714T083000
DTEND;TZID=Europe/Berlin:20260714T120000
UID:26F60L20-20260714T083000@KVW BIBOZEN
SUMMARY:Country Line Dance beats Hip Hop (26F60L20) 
LOCATION:Julius-Durst-Str. 44C - 4. Etage im SyncomGebäude, , 
END:VEVENT
BEGIN:VEVENT
DTSTAMP:20260422T121005
DTSTART;TZID=Europe/Berlin:20260715T083000
DTEND;TZID=Europe/Berlin:20260715T120000
UID:26F60L20-20260715T083000@KVW BIBOZEN
SUMMARY:Country Line Dance beats Hip Hop (26F60L20) 
LOCATION:Julius-Durst-Str. 44C - 4. Etage im SyncomGebäude, , 
END:VEVENT
BEGIN:VEVENT
DTSTAMP:20260422T121005
DTSTART;TZID=Europe/Berlin:20260716T083000
DTEND;TZID=Europe/Berlin:20260716T120000
UID:26F60L20-20260716T083000@KVW BIBOZEN
SUMMARY:Country Line Dance beats Hip Hop (26F60L20) 
LOCATION:Julius-Durst-Str. 44C - 4. Etage im SyncomGebäude, , 
END:VEVENT
BEGIN:VEVENT
DTSTAMP:20260422T121005
DTSTART;TZID=Europe/Berlin:20260717T083000
DTEND;TZID=Europe/Berlin:20260717T131500
UID:26F60L20-20260717T083000@KVW BIBOZEN
SUMMARY:Country Line Dance beats Hip Hop (26F60L20) 
LOCATION:Julius-Durst-Str. 44C - 4. Etage im SyncomGebäude, , 
END:VEVENT
END:VCALENDAR