BEGIN:VCALENDAR
PRODID:http://www.kufer.de/kuferweb / DE
VERSION:2.0
METHOD:PUBLISH
CALSCALE:GREGORIAN
X-WR-TIMEZONE:Europe/Berlin
BEGIN:VTIMEZONE
TZID:Europe/Berlin
X-LIC-LOCATION:Europe/Berlin
BEGIN:DAYLIGHT
TZOFFSETFROM:+0100
TZOFFSETTO:+0200
TZNAME:CEST
DTSTART;TZID=Europe/Berlin:19700329T020000
RRULE:FREQ=YEARLY;INTERVAL=1;BYDAY=-1SU;BYMONTH=3
END:DAYLIGHT
BEGIN:STANDARD
TZOFFSETFROM:+0200
TZOFFSETTO:+0100
TZNAME:CET
DTSTART;TZID=Europe/Berlin:19701025T030000
RRULE:FREQ=YEARLY;INTERVAL=1;BYDAY=-1SU;BYMONTH=10
END:STANDARD
END:VTIMEZONE
BEGIN:VEVENT
DTSTAMP:20260420T103244
DTSTART;TZID=Europe/Berlin:20260312T160000
DTEND;TZID=Europe/Berlin:20260312T170000
UID:26F60L22-20260312T160000@KVW BIBOZEN
SUMMARY:Entspannungskurs für Kinder mit Schwerpunkt Autogenes Training (26F60L22) 
LOCATION:Turnhalle Grundschule Rampold, H.-Multscher-Platz 1, , 
END:VEVENT
BEGIN:VEVENT
DTSTAMP:20260420T103244
DTSTART;TZID=Europe/Berlin:20260319T160000
DTEND;TZID=Europe/Berlin:20260319T170000
UID:26F60L22-20260319T160000@KVW BIBOZEN
SUMMARY:Entspannungskurs für Kinder mit Schwerpunkt Autogenes Training (26F60L22) 
LOCATION:Turnhalle Grundschule Rampold, H.-Multscher-Platz 1, , 
END:VEVENT
BEGIN:VEVENT
DTSTAMP:20260420T103244
DTSTART;TZID=Europe/Berlin:20260326T160000
DTEND;TZID=Europe/Berlin:20260326T170000
UID:26F60L22-20260326T160000@KVW BIBOZEN
SUMMARY:Entspannungskurs für Kinder mit Schwerpunkt Autogenes Training (26F60L22) 
LOCATION:Turnhalle Grundschule Rampold, H.-Multscher-Platz 1, , 
END:VEVENT
BEGIN:VEVENT
DTSTAMP:20260420T103244
DTSTART;TZID=Europe/Berlin:20260409T160000
DTEND;TZID=Europe/Berlin:20260409T170000
UID:26F60L22-20260409T160000@KVW BIBOZEN
SUMMARY:Entspannungskurs für Kinder mit Schwerpunkt Autogenes Training (26F60L22) 
LOCATION:Turnhalle Grundschule Rampold, H.-Multscher-Platz 1, , 
END:VEVENT
BEGIN:VEVENT
DTSTAMP:20260420T103244
DTSTART;TZID=Europe/Berlin:20260416T160000
DTEND;TZID=Europe/Berlin:20260416T170000
UID:26F60L22-20260416T160000@KVW BIBOZEN
SUMMARY:Entspannungskurs für Kinder mit Schwerpunkt Autogenes Training (26F60L22) 
LOCATION:Turnhalle Grundschule Rampold, H.-Multscher-Platz 1, , 
END:VEVENT
BEGIN:VEVENT
DTSTAMP:20260420T103244
DTSTART;TZID=Europe/Berlin:20260423T160000
DTEND;TZID=Europe/Berlin:20260423T170000
UID:26F60L22-20260423T160000@KVW BIBOZEN
SUMMARY:Entspannungskurs für Kinder mit Schwerpunkt Autogenes Training (26F60L22) 
LOCATION:Turnhalle Grundschule Rampold, H.-Multscher-Platz 1, , 
END:VEVENT
END:VCALENDAR