BEGIN:VCALENDAR
PRODID:http://www.kufer.de/kuferweb / DE
VERSION:2.0
METHOD:PUBLISH
CALSCALE:GREGORIAN
X-WR-TIMEZONE:Europe/Berlin
BEGIN:VTIMEZONE
TZID:Europe/Berlin
X-LIC-LOCATION:Europe/Berlin
BEGIN:DAYLIGHT
TZOFFSETFROM:+0100
TZOFFSETTO:+0200
TZNAME:CEST
DTSTART;TZID=Europe/Berlin:19700329T020000
RRULE:FREQ=YEARLY;INTERVAL=1;BYDAY=-1SU;BYMONTH=3
END:DAYLIGHT
BEGIN:STANDARD
TZOFFSETFROM:+0200
TZOFFSETTO:+0100
TZNAME:CET
DTSTART;TZID=Europe/Berlin:19701025T030000
RRULE:FREQ=YEARLY;INTERVAL=1;BYDAY=-1SU;BYMONTH=10
END:STANDARD
END:VTIMEZONE
BEGIN:VEVENT
DTSTAMP:20260420T132329
DTSTART;TZID=Europe/Berlin:20260810T083000
DTEND;TZID=Europe/Berlin:20260810T130000
UID:26F60L25-20260810T083000@KVW BIBOZEN
SUMMARY:Fotocamp (26F60L25) 
LOCATION:Treffpunkt: KVW Sitzungsraum Sterzing, Brennerstraße 14/b, , 
END:VEVENT
BEGIN:VEVENT
DTSTAMP:20260420T132329
DTSTART;TZID=Europe/Berlin:20260811T083000
DTEND;TZID=Europe/Berlin:20260811T130000
UID:26F60L25-20260811T083000@KVW BIBOZEN
SUMMARY:Fotocamp (26F60L25) 
LOCATION:Treffpunkt: KVW Sitzungsraum Sterzing, Brennerstraße 14/b, , 
END:VEVENT
BEGIN:VEVENT
DTSTAMP:20260420T132329
DTSTART;TZID=Europe/Berlin:20260812T083000
DTEND;TZID=Europe/Berlin:20260812T130000
UID:26F60L25-20260812T083000@KVW BIBOZEN
SUMMARY:Fotocamp (26F60L25) 
LOCATION:Treffpunkt: KVW Sitzungsraum Sterzing, Brennerstraße 14/b, , 
END:VEVENT
BEGIN:VEVENT
DTSTAMP:20260420T132329
DTSTART;TZID=Europe/Berlin:20260813T083000
DTEND;TZID=Europe/Berlin:20260813T130000
UID:26F60L25-20260813T083000@KVW BIBOZEN
SUMMARY:Fotocamp (26F60L25) 
LOCATION:Treffpunkt: KVW Sitzungsraum Sterzing, Brennerstraße 14/b, , 
END:VEVENT
BEGIN:VEVENT
DTSTAMP:20260420T132329
DTSTART;TZID=Europe/Berlin:20260814T083000
DTEND;TZID=Europe/Berlin:20260814T130000
UID:26F60L25-20260814T083000@KVW BIBOZEN
SUMMARY:Fotocamp (26F60L25) 
LOCATION:Treffpunkt: KVW Sitzungsraum Sterzing, Brennerstraße 14/b, , 
END:VEVENT
END:VCALENDAR