BEGIN:VCALENDAR
PRODID:http://www.kufer.de/kuferweb / DE
VERSION:2.0
METHOD:PUBLISH
CALSCALE:GREGORIAN
X-WR-TIMEZONE:Europe/Berlin
BEGIN:VTIMEZONE
TZID:Europe/Berlin
X-LIC-LOCATION:Europe/Berlin
BEGIN:DAYLIGHT
TZOFFSETFROM:+0100
TZOFFSETTO:+0200
TZNAME:CEST
DTSTART;TZID=Europe/Berlin:19700329T020000
RRULE:FREQ=YEARLY;INTERVAL=1;BYDAY=-1SU;BYMONTH=3
END:DAYLIGHT
BEGIN:STANDARD
TZOFFSETFROM:+0200
TZOFFSETTO:+0100
TZNAME:CET
DTSTART;TZID=Europe/Berlin:19701025T030000
RRULE:FREQ=YEARLY;INTERVAL=1;BYDAY=-1SU;BYMONTH=10
END:STANDARD
END:VTIMEZONE
BEGIN:VEVENT
DTSTAMP:20260420T130705
DTSTART;TZID=Europe/Berlin:20260819T090000
DTEND;TZID=Europe/Berlin:20260819T120000
UID:26F60L27-20260819T090000@KVW BIBOZEN
SUMMARY:Future Skills – Virtual & Mixed Reality erleben  (26F60L27) 
LOCATION:KVW Kursraum Pustertal, Via Dante Alighieri 1, 39031 Bruneck
END:VEVENT
BEGIN:VEVENT
DTSTAMP:20260420T130705
DTSTART;TZID=Europe/Berlin:20260820T090000
DTEND;TZID=Europe/Berlin:20260820T120000
UID:26F60L27-20260820T090000@KVW BIBOZEN
SUMMARY:Future Skills – Virtual & Mixed Reality erleben  (26F60L27) 
LOCATION:KVW Kursraum Pustertal, Via Dante Alighieri 1, 39031 Bruneck
END:VEVENT
BEGIN:VEVENT
DTSTAMP:20260420T130705
DTSTART;TZID=Europe/Berlin:20260821T090000
DTEND;TZID=Europe/Berlin:20260821T120000
UID:26F60L27-20260821T090000@KVW BIBOZEN
SUMMARY:Future Skills – Virtual & Mixed Reality erleben  (26F60L27) 
LOCATION:KVW Kursraum Pustertal, Via Dante Alighieri 1, 39031 Bruneck
END:VEVENT
END:VCALENDAR