BEGIN:VCALENDAR
PRODID:http://www.kufer.de/kuferweb / DE
VERSION:2.0
METHOD:PUBLISH
CALSCALE:GREGORIAN
X-WR-TIMEZONE:Europe/Berlin
BEGIN:VTIMEZONE
TZID:Europe/Berlin
X-LIC-LOCATION:Europe/Berlin
BEGIN:DAYLIGHT
TZOFFSETFROM:+0100
TZOFFSETTO:+0200
TZNAME:CEST
DTSTART;TZID=Europe/Berlin:19700329T020000
RRULE:FREQ=YEARLY;INTERVAL=1;BYDAY=-1SU;BYMONTH=3
END:DAYLIGHT
BEGIN:STANDARD
TZOFFSETFROM:+0200
TZOFFSETTO:+0100
TZNAME:CET
DTSTART;TZID=Europe/Berlin:19701025T030000
RRULE:FREQ=YEARLY;INTERVAL=1;BYDAY=-1SU;BYMONTH=10
END:STANDARD
END:VTIMEZONE
BEGIN:VEVENT
DTSTAMP:20260420T144017
DTSTART;TZID=Europe/Berlin:20260810T080000
DTEND;TZID=Europe/Berlin:20260810T123000
UID:26F60L33-20260810T080000@KVW BIBOZEN
SUMMARY:Bau dir deinen Roboter (26F60L33) 
LOCATION:Oberschulzentrum Sterzing, Margarethenstraße 9, 39049 Sterzing
END:VEVENT
BEGIN:VEVENT
DTSTAMP:20260420T144017
DTSTART;TZID=Europe/Berlin:20260811T080000
DTEND;TZID=Europe/Berlin:20260811T123000
UID:26F60L33-20260811T080000@KVW BIBOZEN
SUMMARY:Bau dir deinen Roboter (26F60L33) 
LOCATION:Oberschulzentrum Sterzing, Margarethenstraße 9, 39049 Sterzing
END:VEVENT
BEGIN:VEVENT
DTSTAMP:20260420T144017
DTSTART;TZID=Europe/Berlin:20260812T080000
DTEND;TZID=Europe/Berlin:20260812T123000
UID:26F60L33-20260812T080000@KVW BIBOZEN
SUMMARY:Bau dir deinen Roboter (26F60L33) 
LOCATION:Oberschulzentrum Sterzing, Margarethenstraße 9, 39049 Sterzing
END:VEVENT
BEGIN:VEVENT
DTSTAMP:20260420T144017
DTSTART;TZID=Europe/Berlin:20260813T080000
DTEND;TZID=Europe/Berlin:20260813T123000
UID:26F60L33-20260813T080000@KVW BIBOZEN
SUMMARY:Bau dir deinen Roboter (26F60L33) 
LOCATION:Oberschulzentrum Sterzing, Margarethenstraße 9, 39049 Sterzing
END:VEVENT
BEGIN:VEVENT
DTSTAMP:20260420T144017
DTSTART;TZID=Europe/Berlin:20260814T080000
DTEND;TZID=Europe/Berlin:20260814T123000
UID:26F60L33-20260814T080000@KVW BIBOZEN
SUMMARY:Bau dir deinen Roboter (26F60L33) 
LOCATION:Oberschulzentrum Sterzing, Margarethenstraße 9, 39049 Sterzing
END:VEVENT
END:VCALENDAR