BEGIN:VCALENDAR
PRODID:http://www.kufer.de/kuferweb / DE
VERSION:2.0
METHOD:PUBLISH
CALSCALE:GREGORIAN
X-WR-TIMEZONE:Europe/Berlin
BEGIN:VTIMEZONE
TZID:Europe/Berlin
X-LIC-LOCATION:Europe/Berlin
BEGIN:DAYLIGHT
TZOFFSETFROM:+0100
TZOFFSETTO:+0200
TZNAME:CEST
DTSTART;TZID=Europe/Berlin:19700329T020000
RRULE:FREQ=YEARLY;INTERVAL=1;BYDAY=-1SU;BYMONTH=3
END:DAYLIGHT
BEGIN:STANDARD
TZOFFSETFROM:+0200
TZOFFSETTO:+0100
TZNAME:CET
DTSTART;TZID=Europe/Berlin:19701025T030000
RRULE:FREQ=YEARLY;INTERVAL=1;BYDAY=-1SU;BYMONTH=10
END:STANDARD
END:VTIMEZONE
BEGIN:VEVENT
DTSTAMP:20260420T115141
DTSTART;TZID=Europe/Berlin:20260622T090000
DTEND;TZID=Europe/Berlin:20260622T123000
UID:26F60L36-20260622T090000@KVW BIBOZEN
SUMMARY:Country Line Dance beats Hip Hop - Sommer Teens Ferienwoche (26F60L36) 
LOCATION:Julius-Durst-Str. 44C - 4. Etage im SyncomGebäude, , 
END:VEVENT
BEGIN:VEVENT
DTSTAMP:20260420T115141
DTSTART;TZID=Europe/Berlin:20260623T090000
DTEND;TZID=Europe/Berlin:20260623T123000
UID:26F60L36-20260623T090000@KVW BIBOZEN
SUMMARY:Country Line Dance beats Hip Hop - Sommer Teens Ferienwoche (26F60L36) 
LOCATION:Julius-Durst-Str. 44C - 4. Etage im SyncomGebäude, , 
END:VEVENT
BEGIN:VEVENT
DTSTAMP:20260420T115141
DTSTART;TZID=Europe/Berlin:20260624T090000
DTEND;TZID=Europe/Berlin:20260624T123000
UID:26F60L36-20260624T090000@KVW BIBOZEN
SUMMARY:Country Line Dance beats Hip Hop - Sommer Teens Ferienwoche (26F60L36) 
LOCATION:Julius-Durst-Str. 44C - 4. Etage im SyncomGebäude, , 
END:VEVENT
BEGIN:VEVENT
DTSTAMP:20260420T115141
DTSTART;TZID=Europe/Berlin:20260625T090000
DTEND;TZID=Europe/Berlin:20260625T123000
UID:26F60L36-20260625T090000@KVW BIBOZEN
SUMMARY:Country Line Dance beats Hip Hop - Sommer Teens Ferienwoche (26F60L36) 
LOCATION:Julius-Durst-Str. 44C - 4. Etage im SyncomGebäude, , 
END:VEVENT
BEGIN:VEVENT
DTSTAMP:20260420T115141
DTSTART;TZID=Europe/Berlin:20260626T090000
DTEND;TZID=Europe/Berlin:20260626T123000
UID:26F60L36-20260626T090000@KVW BIBOZEN
SUMMARY:Country Line Dance beats Hip Hop - Sommer Teens Ferienwoche (26F60L36) 
LOCATION:Julius-Durst-Str. 44C - 4. Etage im SyncomGebäude, , 
END:VEVENT
END:VCALENDAR