BEGIN:VCALENDAR
PRODID:http://www.kufer.de/kuferweb / DE
VERSION:2.0
METHOD:PUBLISH
CALSCALE:GREGORIAN
X-WR-TIMEZONE:Europe/Berlin
BEGIN:VTIMEZONE
TZID:Europe/Berlin
X-LIC-LOCATION:Europe/Berlin
BEGIN:DAYLIGHT
TZOFFSETFROM:+0100
TZOFFSETTO:+0200
TZNAME:CEST
DTSTART;TZID=Europe/Berlin:19700329T020000
RRULE:FREQ=YEARLY;INTERVAL=1;BYDAY=-1SU;BYMONTH=3
END:DAYLIGHT
BEGIN:STANDARD
TZOFFSETFROM:+0200
TZOFFSETTO:+0100
TZNAME:CET
DTSTART;TZID=Europe/Berlin:19701025T030000
RRULE:FREQ=YEARLY;INTERVAL=1;BYDAY=-1SU;BYMONTH=10
END:STANDARD
END:VTIMEZONE
BEGIN:VEVENT
DTSTAMP:20260420T115246
DTSTART;TZID=Europe/Berlin:20260629T090000
DTEND;TZID=Europe/Berlin:20260629T123000
UID:26F60L38-20260629T090000@KVW BIBOZEN
SUMMARY:Country Line Dance beats Hip Hop - Sommer Kids Ferienwoche (26F60L38) 
LOCATION:Julius-Durst-Str. 44C - 4. Etage im SyncomGebäude, , 
END:VEVENT
BEGIN:VEVENT
DTSTAMP:20260420T115246
DTSTART;TZID=Europe/Berlin:20260630T090000
DTEND;TZID=Europe/Berlin:20260630T123000
UID:26F60L38-20260630T090000@KVW BIBOZEN
SUMMARY:Country Line Dance beats Hip Hop - Sommer Kids Ferienwoche (26F60L38) 
LOCATION:Julius-Durst-Str. 44C - 4. Etage im SyncomGebäude, , 
END:VEVENT
BEGIN:VEVENT
DTSTAMP:20260420T115246
DTSTART;TZID=Europe/Berlin:20260701T090000
DTEND;TZID=Europe/Berlin:20260701T123000
UID:26F60L38-20260701T090000@KVW BIBOZEN
SUMMARY:Country Line Dance beats Hip Hop - Sommer Kids Ferienwoche (26F60L38) 
LOCATION:Julius-Durst-Str. 44C - 4. Etage im SyncomGebäude, , 
END:VEVENT
BEGIN:VEVENT
DTSTAMP:20260420T115246
DTSTART;TZID=Europe/Berlin:20260702T090000
DTEND;TZID=Europe/Berlin:20260702T123000
UID:26F60L38-20260702T090000@KVW BIBOZEN
SUMMARY:Country Line Dance beats Hip Hop - Sommer Kids Ferienwoche (26F60L38) 
LOCATION:Julius-Durst-Str. 44C - 4. Etage im SyncomGebäude, , 
END:VEVENT
BEGIN:VEVENT
DTSTAMP:20260420T115246
DTSTART;TZID=Europe/Berlin:20260703T090000
DTEND;TZID=Europe/Berlin:20260703T123000
UID:26F60L38-20260703T090000@KVW BIBOZEN
SUMMARY:Country Line Dance beats Hip Hop - Sommer Kids Ferienwoche (26F60L38) 
LOCATION:Julius-Durst-Str. 44C - 4. Etage im SyncomGebäude, , 
END:VEVENT
END:VCALENDAR