BEGIN:VCALENDAR
PRODID:http://www.kufer.de/kuferweb / DE
VERSION:2.0
METHOD:PUBLISH
CALSCALE:GREGORIAN
X-WR-TIMEZONE:Europe/Berlin
BEGIN:VTIMEZONE
TZID:Europe/Berlin
X-LIC-LOCATION:Europe/Berlin
BEGIN:DAYLIGHT
TZOFFSETFROM:+0100
TZOFFSETTO:+0200
TZNAME:CEST
DTSTART;TZID=Europe/Berlin:19700329T020000
RRULE:FREQ=YEARLY;INTERVAL=1;BYDAY=-1SU;BYMONTH=3
END:DAYLIGHT
BEGIN:STANDARD
TZOFFSETFROM:+0200
TZOFFSETTO:+0100
TZNAME:CET
DTSTART;TZID=Europe/Berlin:19701025T030000
RRULE:FREQ=YEARLY;INTERVAL=1;BYDAY=-1SU;BYMONTH=10
END:STANDARD
END:VTIMEZONE
BEGIN:VEVENT
DTSTAMP:20260420T115308
DTSTART;TZID=Europe/Berlin:20260629T080000
DTEND;TZID=Europe/Berlin:20260629T120000
UID:26F60L39-20260629T080000@KVW BIBOZEN
SUMMARY:Beweg dich glücklich – Bewegungs- und Entspannungswoche für Kinder Eine Sommerwoche voller Bewegung, Ruhe und Kreativität (26F60L39) 
LOCATION:KVW Kursraum 84 Meran, Otto-Huber-Straße 84, 39012 Meran
END:VEVENT
BEGIN:VEVENT
DTSTAMP:20260420T115308
DTSTART;TZID=Europe/Berlin:20260630T080000
DTEND;TZID=Europe/Berlin:20260630T120000
UID:26F60L39-20260630T080000@KVW BIBOZEN
SUMMARY:Beweg dich glücklich – Bewegungs- und Entspannungswoche für Kinder Eine Sommerwoche voller Bewegung, Ruhe und Kreativität (26F60L39) 
LOCATION:KVW Kursraum 84 Meran, Otto-Huber-Straße 84, 39012 Meran
END:VEVENT
BEGIN:VEVENT
DTSTAMP:20260420T115308
DTSTART;TZID=Europe/Berlin:20260701T080000
DTEND;TZID=Europe/Berlin:20260701T120000
UID:26F60L39-20260701T080000@KVW BIBOZEN
SUMMARY:Beweg dich glücklich – Bewegungs- und Entspannungswoche für Kinder Eine Sommerwoche voller Bewegung, Ruhe und Kreativität (26F60L39) 
LOCATION:KVW Kursraum 84 Meran, Otto-Huber-Straße 84, 39012 Meran
END:VEVENT
BEGIN:VEVENT
DTSTAMP:20260420T115308
DTSTART;TZID=Europe/Berlin:20260702T080000
DTEND;TZID=Europe/Berlin:20260702T120000
UID:26F60L39-20260702T080000@KVW BIBOZEN
SUMMARY:Beweg dich glücklich – Bewegungs- und Entspannungswoche für Kinder Eine Sommerwoche voller Bewegung, Ruhe und Kreativität (26F60L39) 
LOCATION:KVW Kursraum 84 Meran, Otto-Huber-Straße 84, 39012 Meran
END:VEVENT
BEGIN:VEVENT
DTSTAMP:20260420T115308
DTSTART;TZID=Europe/Berlin:20260703T080000
DTEND;TZID=Europe/Berlin:20260703T120000
UID:26F60L39-20260703T080000@KVW BIBOZEN
SUMMARY:Beweg dich glücklich – Bewegungs- und Entspannungswoche für Kinder Eine Sommerwoche voller Bewegung, Ruhe und Kreativität (26F60L39) 
LOCATION:KVW Kursraum 84 Meran, Otto-Huber-Straße 84, 39012 Meran
END:VEVENT
END:VCALENDAR