BEGIN:VCALENDAR
PRODID:http://www.kufer.de/kuferweb / DE
VERSION:2.0
METHOD:PUBLISH
CALSCALE:GREGORIAN
X-WR-TIMEZONE:Europe/Berlin
BEGIN:VTIMEZONE
TZID:Europe/Berlin
X-LIC-LOCATION:Europe/Berlin
BEGIN:DAYLIGHT
TZOFFSETFROM:+0100
TZOFFSETTO:+0200
TZNAME:CEST
DTSTART;TZID=Europe/Berlin:19700329T020000
RRULE:FREQ=YEARLY;INTERVAL=1;BYDAY=-1SU;BYMONTH=3
END:DAYLIGHT
BEGIN:STANDARD
TZOFFSETFROM:+0200
TZOFFSETTO:+0100
TZNAME:CET
DTSTART;TZID=Europe/Berlin:19701025T030000
RRULE:FREQ=YEARLY;INTERVAL=1;BYDAY=-1SU;BYMONTH=10
END:STANDARD
END:VTIMEZONE
BEGIN:VEVENT
DTSTAMP:20260420T130843
DTSTART;TZID=Europe/Berlin:20260817T073000
DTEND;TZID=Europe/Berlin:20260817T123000
UID:26F60L40-20260817T073000@KVW BIBOZEN
SUMMARY:Hip Hop Tanzcamp Freunde treffen - tanzen - Spass haben (26F60L40) 
LOCATION:Kulturhaus Ridnaun, , 
END:VEVENT
BEGIN:VEVENT
DTSTAMP:20260420T130843
DTSTART;TZID=Europe/Berlin:20260818T073000
DTEND;TZID=Europe/Berlin:20260818T123000
UID:26F60L40-20260818T073000@KVW BIBOZEN
SUMMARY:Hip Hop Tanzcamp Freunde treffen - tanzen - Spass haben (26F60L40) 
LOCATION:Kulturhaus Ridnaun, , 
END:VEVENT
BEGIN:VEVENT
DTSTAMP:20260420T130843
DTSTART;TZID=Europe/Berlin:20260819T073000
DTEND;TZID=Europe/Berlin:20260819T123000
UID:26F60L40-20260819T073000@KVW BIBOZEN
SUMMARY:Hip Hop Tanzcamp Freunde treffen - tanzen - Spass haben (26F60L40) 
LOCATION:Kulturhaus Ridnaun, , 
END:VEVENT
BEGIN:VEVENT
DTSTAMP:20260420T130843
DTSTART;TZID=Europe/Berlin:20260820T073000
DTEND;TZID=Europe/Berlin:20260820T123000
UID:26F60L40-20260820T073000@KVW BIBOZEN
SUMMARY:Hip Hop Tanzcamp Freunde treffen - tanzen - Spass haben (26F60L40) 
LOCATION:Kulturhaus Ridnaun, , 
END:VEVENT
BEGIN:VEVENT
DTSTAMP:20260420T130843
DTSTART;TZID=Europe/Berlin:20260821T073000
DTEND;TZID=Europe/Berlin:20260821T123000
UID:26F60L40-20260821T073000@KVW BIBOZEN
SUMMARY:Hip Hop Tanzcamp Freunde treffen - tanzen - Spass haben (26F60L40) 
LOCATION:Kulturhaus Ridnaun, , 
END:VEVENT
END:VCALENDAR