BEGIN:VCALENDAR
PRODID:http://www.kufer.de/kuferweb / DE
VERSION:2.0
METHOD:PUBLISH
CALSCALE:GREGORIAN
X-WR-TIMEZONE:Europe/Berlin
BEGIN:VTIMEZONE
TZID:Europe/Berlin
X-LIC-LOCATION:Europe/Berlin
BEGIN:DAYLIGHT
TZOFFSETFROM:+0100
TZOFFSETTO:+0200
TZNAME:CEST
DTSTART;TZID=Europe/Berlin:19700329T020000
RRULE:FREQ=YEARLY;INTERVAL=1;BYDAY=-1SU;BYMONTH=3
END:DAYLIGHT
BEGIN:STANDARD
TZOFFSETFROM:+0200
TZOFFSETTO:+0100
TZNAME:CET
DTSTART;TZID=Europe/Berlin:19701025T030000
RRULE:FREQ=YEARLY;INTERVAL=1;BYDAY=-1SU;BYMONTH=10
END:STANDARD
END:VTIMEZONE
BEGIN:VEVENT
DTSTAMP:20260420T103428
DTSTART;TZID=Europe/Berlin:20260413T140000
DTEND;TZID=Europe/Berlin:20260413T163000
UID:26F65A07-20260413T140000@KVW BIBOZEN
SUMMARY:Mein Smartphone - so geht's leichter (26F65A07) 
LOCATION:KVW Kursraum 84 Meran, Otto-Huber-Straße 84, 39012 Meran
END:VEVENT
BEGIN:VEVENT
DTSTAMP:20260420T103428
DTSTART;TZID=Europe/Berlin:20260420T140000
DTEND;TZID=Europe/Berlin:20260420T163000
UID:26F65A07-20260420T140000@KVW BIBOZEN
SUMMARY:Mein Smartphone - so geht's leichter (26F65A07) 
LOCATION:KVW Kursraum 84 Meran, Otto-Huber-Straße 84, 39012 Meran
END:VEVENT
END:VCALENDAR