BEGIN:VCALENDAR
PRODID:http://www.kufer.de/kuferweb / DE
VERSION:2.0
METHOD:PUBLISH
CALSCALE:GREGORIAN
X-WR-TIMEZONE:Europe/Berlin
BEGIN:VTIMEZONE
TZID:Europe/Berlin
X-LIC-LOCATION:Europe/Berlin
BEGIN:DAYLIGHT
TZOFFSETFROM:+0100
TZOFFSETTO:+0200
TZNAME:CEST
DTSTART;TZID=Europe/Berlin:19700329T020000
RRULE:FREQ=YEARLY;INTERVAL=1;BYDAY=-1SU;BYMONTH=3
END:DAYLIGHT
BEGIN:STANDARD
TZOFFSETFROM:+0200
TZOFFSETTO:+0100
TZNAME:CET
DTSTART;TZID=Europe/Berlin:19701025T030000
RRULE:FREQ=YEARLY;INTERVAL=1;BYDAY=-1SU;BYMONTH=10
END:STANDARD
END:VTIMEZONE
BEGIN:VEVENT
DTSTAMP:20260420T103630
DTSTART;TZID=Europe/Berlin:20260303T140000
DTEND;TZID=Europe/Berlin:20260303T154500
UID:26F65A56-20260303T140000@KVW BIBOZEN
SUMMARY:Computerkurs für AnfängerInnen (26F65A56) 
LOCATION:KVW Kursraum 84 Meran, Otto-Huber-Straße 84, 39012 Meran
END:VEVENT
BEGIN:VEVENT
DTSTAMP:20260420T103630
DTSTART;TZID=Europe/Berlin:20260310T140000
DTEND;TZID=Europe/Berlin:20260310T154500
UID:26F65A56-20260310T140000@KVW BIBOZEN
SUMMARY:Computerkurs für AnfängerInnen (26F65A56) 
LOCATION:KVW Kursraum 84 Meran, Otto-Huber-Straße 84, 39012 Meran
END:VEVENT
BEGIN:VEVENT
DTSTAMP:20260420T103630
DTSTART;TZID=Europe/Berlin:20260317T140000
DTEND;TZID=Europe/Berlin:20260317T154500
UID:26F65A56-20260317T140000@KVW BIBOZEN
SUMMARY:Computerkurs für AnfängerInnen (26F65A56) 
LOCATION:KVW Kursraum 84 Meran, Otto-Huber-Straße 84, 39012 Meran
END:VEVENT
BEGIN:VEVENT
DTSTAMP:20260420T103630
DTSTART;TZID=Europe/Berlin:20260324T140000
DTEND;TZID=Europe/Berlin:20260324T154500
UID:26F65A56-20260324T140000@KVW BIBOZEN
SUMMARY:Computerkurs für AnfängerInnen (26F65A56) 
LOCATION:KVW Kursraum 84 Meran, Otto-Huber-Straße 84, 39012 Meran
END:VEVENT
BEGIN:VEVENT
DTSTAMP:20260420T103630
DTSTART;TZID=Europe/Berlin:20260331T140000
DTEND;TZID=Europe/Berlin:20260331T154500
UID:26F65A56-20260331T140000@KVW BIBOZEN
SUMMARY:Computerkurs für AnfängerInnen (26F65A56) 
LOCATION:KVW Kursraum 84 Meran, Otto-Huber-Straße 84, 39012 Meran
END:VEVENT
BEGIN:VEVENT
DTSTAMP:20260420T103630
DTSTART;TZID=Europe/Berlin:20260428T160000
DTEND;TZID=Europe/Berlin:20260428T174500
UID:26F65A56-20260428T160000@KVW BIBOZEN
SUMMARY:Computerkurs für AnfängerInnen (26F65A56) 
LOCATION:KVW Kursraum 84 Meran, Otto-Huber-Straße 84, 39012 Meran
END:VEVENT
END:VCALENDAR