BEGIN:VCALENDAR
PRODID:http://www.kufer.de/kuferweb / DE
VERSION:2.0
METHOD:PUBLISH
CALSCALE:GREGORIAN
X-WR-TIMEZONE:Europe/Berlin
BEGIN:VTIMEZONE
TZID:Europe/Berlin
X-LIC-LOCATION:Europe/Berlin
BEGIN:DAYLIGHT
TZOFFSETFROM:+0100
TZOFFSETTO:+0200
TZNAME:CEST
DTSTART;TZID=Europe/Berlin:19700329T020000
RRULE:FREQ=YEARLY;INTERVAL=1;BYDAY=-1SU;BYMONTH=3
END:DAYLIGHT
BEGIN:STANDARD
TZOFFSETFROM:+0200
TZOFFSETTO:+0100
TZNAME:CET
DTSTART;TZID=Europe/Berlin:19701025T030000
RRULE:FREQ=YEARLY;INTERVAL=1;BYDAY=-1SU;BYMONTH=10
END:STANDARD
END:VTIMEZONE
BEGIN:VEVENT
DTSTAMP:20260420T103654
DTSTART;TZID=Europe/Berlin:20260428T150000
DTEND;TZID=Europe/Berlin:20260428T180000
UID:26F65A81-20260428T150000@KVW BIBOZEN
SUMMARY:DIGGY - Die Anlaufstelle fürs Digitale temporär - Tirol (26F65A81) 
LOCATION:Bibliothek, Hauptstraße 13, , 
END:VEVENT
BEGIN:VEVENT
DTSTAMP:20260420T103654
DTSTART;TZID=Europe/Berlin:20260526T150000
DTEND;TZID=Europe/Berlin:20260526T180000
UID:26F65A81-20260526T150000@KVW BIBOZEN
SUMMARY:DIGGY - Die Anlaufstelle fürs Digitale temporär - Tirol (26F65A81) 
LOCATION:Bibliothek, Hauptstraße 13, , 
END:VEVENT
BEGIN:VEVENT
DTSTAMP:20260420T103654
DTSTART;TZID=Europe/Berlin:20260630T150000
DTEND;TZID=Europe/Berlin:20260630T180000
UID:26F65A81-20260630T150000@KVW BIBOZEN
SUMMARY:DIGGY - Die Anlaufstelle fürs Digitale temporär - Tirol (26F65A81) 
LOCATION:Bibliothek, Hauptstraße 13, , 
END:VEVENT
BEGIN:VEVENT
DTSTAMP:20260420T103654
DTSTART;TZID=Europe/Berlin:20260901T150000
DTEND;TZID=Europe/Berlin:20260901T180000
UID:26F65A81-20260901T150000@KVW BIBOZEN
SUMMARY:DIGGY - Die Anlaufstelle fürs Digitale temporär - Tirol (26F65A81) 
LOCATION:Bibliothek, Hauptstraße 13, , 
END:VEVENT
BEGIN:VEVENT
DTSTAMP:20260420T103654
DTSTART;TZID=Europe/Berlin:20261006T150000
DTEND;TZID=Europe/Berlin:20261006T180000
UID:26F65A81-20261006T150000@KVW BIBOZEN
SUMMARY:DIGGY - Die Anlaufstelle fürs Digitale temporär - Tirol (26F65A81) 
LOCATION:Bibliothek, Hauptstraße 13, , 
END:VEVENT
BEGIN:VEVENT
DTSTAMP:20260420T103654
DTSTART;TZID=Europe/Berlin:20261103T150000
DTEND;TZID=Europe/Berlin:20261103T180000
UID:26F65A81-20261103T150000@KVW BIBOZEN
SUMMARY:DIGGY - Die Anlaufstelle fürs Digitale temporär - Tirol (26F65A81) 
LOCATION:Bibliothek, Hauptstraße 13, , 
END:VEVENT
END:VCALENDAR